BEGIN:VCALENDAR
VERSION:2.0
PRODID:-//La Victoria Healing Kitchen - ECPv6.15.3//NONSGML v1.0//EN
CALSCALE:GREGORIAN
METHOD:PUBLISH
X-WR-CALNAME:La Victoria Healing Kitchen
X-ORIGINAL-URL:https://lavictoriahk.com
X-WR-CALDESC:Events for La Victoria Healing Kitchen
REFRESH-INTERVAL;VALUE=DURATION:PT1H
X-Robots-Tag:noindex
X-PUBLISHED-TTL:PT1H
BEGIN:VTIMEZONE
TZID:UTC
BEGIN:STANDARD
TZOFFSETFROM:+0000
TZOFFSETTO:+0000
TZNAME:UTC
DTSTART:20250101T000000
END:STANDARD
END:VTIMEZONE
BEGIN:VEVENT
DTSTART;TZID=UTC:20250804T090000
DTEND;TZID=UTC:20250808T150000
DTSTAMP:20260420T152542
CREATED:20241217T144626Z
LAST-MODIFIED:20250603T144306Z
UID:10000606-1754298000-1754665200@lavictoriahk.com
SUMMARY:Around the World: A Global Culinary & Culture Adventure!
DESCRIPTION:** Sold Out ** \nJoin us for “Around the World: A Global Culinary & Culture Adventure\,” a one-of-a-kind 5-day camp that blends culinary arts\, cultural learning\, and creative expression. Each day\, campers will dive into a different culture represented in our community\, preparing dishes from international cuisines and participating in engaging activities such as painting\, music\, and dance in collaboration with incredible organizations like DAVA\, the Fox Theatre\, and Aurora Community Connections.What Makes This Camp Special? \n\nLearn Culture Through Food: Campers will cook and enjoy meals inspired by a new culture each day.\nBring the Experience Home: Each day ends with campers taking home 4 portions of their prepared dishes to share with family.\nCommunity Collaboration: Activities are enriched by local arts programming and Aurora-based organizations.\nGive Back: A portion of the registration fee helps fund scholarships for four campers who experience financial hardship to attend at no cost.\n\nBy the end of the week\, your child will have expanded their culinary palette\, developed new skills\, and gained a deeper appreciation for the diversity that surrounds us\, all while having a blast! \n \nCamp Details: \nDates: Offered 3 times in Summer 2025 (choose the week that works for you!) \n\nSummer Camp: June 9-13\, 2025 \nSummer Camp: July 14-18\, 2025 \nSummer Camp: August 4-8\, 2025\n\nTimes: Monday–Friday\, 9:00 AM to 3:00 PMAges: Recommended for ages 10–14 (Camps are limited to 20 participants) \nCost: $150 per day\, or $675 for week \nPre-Registration Deposit:  \n\nA $50 deposit is required to secure a spot.\nRefund Policy: If the camp does not meet the minimum number of participants or if you choose to opt out when registration confirmation is sent\, $45 of this fee is refundable.\n\nMinimum Attendance Requirement: 12 campers \n\nThe camp will proceed only if at least 12 attendees register.\nOnce confirmed\, all pre-registered participants will receive official camp confirmation documents\, which must be returned with a non-refundable registration fee of $100 for day campers\, and $325 for week campers\, to finalize their registration.\n\nFinal Payment \n\nThe remaining balance is due 10 days before the start of camp.\n\nSpaces are limited—reserve your spot today for an engaging and memorable experience.
URL:https://lavictoriahk.com/event/around-the-world-a-global-culinary-culture-adventure-aug-4-2025/
LOCATION:La Victoria Healing Kitchen\, 1427 Elmira St\, Aurora\, CO\, 80010\, United States
CATEGORIES:Kids Camps
ATTACH;FMTTYPE=image/jpeg:https://lavictoriahk.com/wp-content/uploads/2024/12/LVHK-Kids-Camp-Denver-and-Aurora-CO-SoldOut.jpg
END:VEVENT
BEGIN:VEVENT
DTSTART;TZID=UTC:20250806T143000
DTEND;TZID=UTC:20250806T160000
DTSTAMP:20260420T152542
CREATED:20250628T125514Z
LAST-MODIFIED:20250805T000601Z
UID:10000660-1754490600-1754496000@lavictoriahk.com
SUMMARY:Nourish: A 5-Part Cooking Series for Everyday Health
DESCRIPTION:** Sold Out ** \nTake control of your kitchen—and your well-being—with this hands-on cooking series designed to build lifelong skills for healthy\, delicious eating. Nourish is a five-part journey into practical\, nutrition-forward cooking\, with each class focused on a different foundation of a balanced\, satisfying diet. \nWhether you’re a beginner or looking to refresh your routine\, this series will help you gain confidence\, understand ingredients\, and create meals that fuel your body and delight your taste buds. \nClass 4: Veggie Love – Turn seasonal vegetables into the star of the plate! Learn roasting\, sautéing\, and flavor-building techniques that make eating more veggies enjoyable and easy. \nEach class includes:\n– Hands-on instruction and tastings\n– Simple recipes to take home\n– Nutrition insights and ingredient swaps\n– Tips for meal planning and budget-friendly shopping \nJoin us for one class or the full series—and walk away with a toolkit for eating well\, every day!\nParticipants of all 5 classes will take home a Healing Kitchen recipe binder\, reusable meal planning cards and grocery tote. \n 
URL:https://lavictoriahk.com/event/nourish-a-5-part-cooking-series-08-06-2025/
LOCATION:La Victoria Healing Kitchen\, 1427 Elmira St\, Aurora\, CO\, 80010\, United States
ATTACH;FMTTYPE=image/jpeg:https://lavictoriahk.com/wp-content/uploads/2025/06/LVHK_Nourish-Series-1.jpg
END:VEVENT
BEGIN:VEVENT
DTSTART;TZID=UTC:20250808T183000
DTEND;TZID=UTC:20250808T203000
DTSTAMP:20260420T152542
CREATED:20250724T183748Z
LAST-MODIFIED:20250805T001220Z
UID:10000667-1754677800-1754685000@lavictoriahk.com
SUMMARY:An Enchanted Forest - Mystic Tea Party
DESCRIPTION:** Sold Out ** \nYou are invited to a high tea unlike any other\, steeped in woodland magic beneath old growth trees and moss-covered roots into a world where the veil is thin and the teacups whisper. We will be sipping fragrant teas steeped from wildflowers and lore and delight in an array of enchanted botanical treats\, both savory and sweet. \nDuring a sensory journey of nibbles and sips you’ll be offered a mini tea leaf reading by Lynn Flanagan-Till—a magical glimpse into the mysteries waiting in your cup. Let the forest whisper its secrets… and may the magic steep deep. Dress in your most whimsical finery\, and let the forest welcome you into its secret circle of wonder. \nMenu:\n(subject to change based on what is in season/available!) \n• Fireweed Tea with Wild Rose Petals and Spruce Tips\n• Mint & Chokecherry Iced Tea with Local Honey\n• Wild Mushroom\, Wild Spinach/Lambsquarters\, Nettle & Wild Onion Bruchetta\n• Honeysuckle & Wild Strawberry Cupcakes\n• Variety of snacky crackers/bread dips/cheese/spreads
URL:https://lavictoriahk.com/event/an-enchanted-forest-mystic-tea-party-08-08-2025/
LOCATION:La Victoria Healing Kitchen\, 1427 Elmira St\, Aurora\, CO\, 80010\, United States
ATTACH;FMTTYPE=image/png:https://lavictoriahk.com/wp-content/uploads/2025/07/LVHK_Mystic_Tea_Party.png
END:VEVENT
BEGIN:VEVENT
DTSTART;TZID=UTC:20250810T103000
DTEND;TZID=UTC:20250810T123000
DTSTAMP:20260420T152542
CREATED:20250728T160602Z
LAST-MODIFIED:20250805T000850Z
UID:10000668-1754821800-1754829000@lavictoriahk.com
SUMMARY:Beautiful Bento: The Art of Japanese Lunch Boxes
DESCRIPTION:** Sold Out ** \nDiscover the balance\, beauty\, and creativity of Japanese cuisine in this hands-on bento box class. Bento\, the traditional Japanese lunch box\, is more than just a meal—it’s a thoughtful expression of nourishment\, seasonality\, and visual harmony. \nIn this class\, you’ll learn how to plan and prepare a well-balanced\, visually appealing bento using classic Japanese ingredients and techniques. From perfectly seasoned rice and colorful vegetables paired with the perfect protein\, we’ll cover everything you need to craft a satisfying and beautiful bento box. \nYou’ll learn to:\n– Prepare and season short-grain rice\n– Make traditional and modern bento proteins and veggie sides\n– Use cutting and arrangement techniques for visual impact\n– Balance flavor\, color\, and nutrition in your box\n– Pack and store your bento for freshness and transport \nEach participant will assemble their own complete bento to enjoy\, along with recipes and tips for recreating the experience. \nPerfect for home cooks\, lunch lovers\, and anyone curious about Japanese culinary culture.
URL:https://lavictoriahk.com/event/beautiful-bento-the-art-of-japanese-lunch-boxes-aug-10-2025/
LOCATION:La Victoria Healing Kitchen\, 1427 Elmira St\, Aurora\, CO\, 80010\, United States
ATTACH;FMTTYPE=image/jpeg:https://lavictoriahk.com/wp-content/uploads/2025/07/LVHK_BentoBox.jpg
END:VEVENT
END:VCALENDAR