BEGIN:VCALENDAR
VERSION:2.0
PRODID:-//La Victoria Healing Kitchen - ECPv6.15.3//NONSGML v1.0//EN
CALSCALE:GREGORIAN
METHOD:PUBLISH
X-ORIGINAL-URL:https://lavictoriahk.com
X-WR-CALDESC:Events for La Victoria Healing Kitchen
REFRESH-INTERVAL;VALUE=DURATION:PT1H
X-Robots-Tag:noindex
X-PUBLISHED-TTL:PT1H
BEGIN:VTIMEZONE
TZID:UTC
BEGIN:STANDARD
TZOFFSETFROM:+0000
TZOFFSETTO:+0000
TZNAME:UTC
DTSTART:20250101T000000
END:STANDARD
END:VTIMEZONE
BEGIN:VEVENT
DTSTART;TZID=UTC:20250714T090000
DTEND;TZID=UTC:20250718T150000
DTSTAMP:20260420T182010
CREATED:20241217T144331Z
LAST-MODIFIED:20250603T144349Z
UID:10000605-1752483600-1752850800@lavictoriahk.com
SUMMARY:Around the World: A Global Culinary & Culture Adventure!
DESCRIPTION:** Sold Out ** \nJoin us for “Around the World: A Global Culinary & Culture Adventure\,” a one-of-a-kind 5-day camp that blends culinary arts\, cultural learning\, and creative expression. Each day\, campers will dive into a different culture represented in our community\, preparing dishes from international cuisines and participating in engaging activities such as painting\, music\, and dance in collaboration with incredible organizations like DAVA\, the Fox Theatre\, and Aurora Community Connections.What Makes This Camp Special? \n\nLearn Culture Through Food: Campers will cook and enjoy meals inspired by a new culture each day.\nBring the Experience Home: Each day ends with campers taking home 4 portions of their prepared dishes to share with family.\nCommunity Collaboration: Activities are enriched by local arts programming and Aurora-based organizations.\nGive Back: A portion of the registration fee helps fund scholarships for four campers who experience financial hardship to attend at no cost.\n\nBy the end of the week\, your child will have expanded their culinary palette\, developed new skills\, and gained a deeper appreciation for the diversity that surrounds us\, all while having a blast! \n \nCamp Details: \nDates: Offered 3 times in Summer 2025 (choose the week that works for you!) \n\nSummer Camp: June 9-13\, 2025 \nSummer Camp: July 14-18\, 2025 \nSummer Camp: August 4-8\, 2025\n\nTimes: Monday–Friday\, 9:00 AM to 3:00 PMAges: Recommended for ages 10–14 (Camps are limited to 20 participants) \nCost: $150 per day\, or $675 for week \nPre-Registration Deposit:  \n\nA $50 deposit is required to secure a spot.\nRefund Policy: If the camp does not meet the minimum number of participants or if you choose to opt out when registration confirmation is sent\, $45 of this fee is refundable.\n\nMinimum Attendance Requirement: 12 campers \n\nThe camp will proceed only if at least 12 attendees register.\nOnce confirmed\, all pre-registered participants will receive official camp confirmation documents\, which must be returned with a non-refundable registration fee of $100 for day campers\, and $325 for week campers\, to finalize their registration.\n\nFinal Payment \n\nThe remaining balance is due 10 days before the start of camp.\n\nSpaces are limited—reserve your spot today for an engaging and memorable experience.
URL:https://lavictoriahk.com/event/around-the-world-a-global-culinary-culture-adventure-july-14-2025/
LOCATION:La Victoria Healing Kitchen\, 1427 Elmira St\, Aurora\, CO\, 80010\, United States
CATEGORIES:Kids Camps
ATTACH;FMTTYPE=image/jpeg:https://lavictoriahk.com/wp-content/uploads/2024/12/LVHK-Kids-Camp-Denver-and-Aurora-CO-SoldOut.jpg
END:VEVENT
BEGIN:VEVENT
DTSTART;TZID=UTC:20250716T143000
DTEND;TZID=UTC:20250716T163000
DTSTAMP:20260420T182010
CREATED:20250627T113555Z
LAST-MODIFIED:20250714T225548Z
UID:10000657-1752676200-1752683400@lavictoriahk.com
SUMMARY:Nourish: A 5-Part Cooking Series for Everyday Health
DESCRIPTION:Take control of your kitchen—and your well-being—with this hands-on cooking series designed to build lifelong skills for healthy\, delicious eating. Nourish is a five-part journey into practical\, nutrition-forward cooking\, with each class focused on a different foundation of a balanced\, satisfying diet. \nWhether you’re a beginner or looking to refresh your routine\, this series will help you gain confidence\, understand ingredients\, and create meals that fuel your body and delight your taste buds. \nClass 1: Power Breakfasts – Learn to start your day strong with nourishing\, easy-to-make breakfasts. We’ll cover quick options\, meal-prep-friendly ideas\, and balanced pairings of fiber\, protein\, and healthy fats. \nEach class includes:\n– Hands-on instruction and tastings\n– Simple recipes to take home\n– Nutrition insights and ingredient swaps\n– Tips for meal planning and budget-friendly shopping \nJoin us for one class or the full series—and walk away with a toolkit for eating well\, every day!\nParticipants of all 5 classes will take home a Healing Kitchen recipe binder\, reusable meal planning cards and grocery tote. \nMenu: \nA trio of wholesome\, quick breakfast options to kick-start the day with balanced nutrition. Each recipe is designed to combine fiber\, protein\, and healthy fats for lasting energy. These breakfasts are meal-prep friendly\, easy to make on busy mornings\, and delicious enough to please the whole family. \n\nOvernight Oats with Chia and Berries\nVeggie Egg Muffins (Mini Frittatas)\nAvocado Toast with Whole-Grain Bread & Egg\nYogurt Parfait with Fruit & Granola\n\n(By focusing on simple prep and whole foods\, these breakfast ideas are budget-friendly and highly adaptable. Participants also get tips on ingredient swaps – like using seasonal fruits or plant-based milk – to make healthy breakfasts an everyday habit. They’ll leave Class 1 with quick-fix recipes and a strong foundation for building nutritious mornings.)
URL:https://lavictoriahk.com/event/nourish-a-5-part-cooking-series-july-16-2025/
LOCATION:La Victoria Healing Kitchen\, 1427 Elmira St\, Aurora\, CO\, 80010\, United States
ATTACH;FMTTYPE=image/jpeg:https://lavictoriahk.com/wp-content/uploads/2025/06/LVHK_Nourish-Series-1.jpg
END:VEVENT
BEGIN:VEVENT
DTSTART;TZID=UTC:20250717T103000
DTEND;TZID=UTC:20250717T120000
DTSTAMP:20260420T182010
CREATED:20250626T194344Z
LAST-MODIFIED:20250714T225628Z
UID:10000652-1752748200-1752753600@lavictoriahk.com
SUMMARY:Cooking 101: Eat Well\, Save Money\, Feel Confident in the Kitchen
DESCRIPTION:Cooking Techniques & Staple Ingredients\nBoil\, sauté\, roast\, and more—this class covers foundational cooking methods and how to use them with versatile\, budget-friendly ingredients. We’ll build a pantry of staple items (spices\, grains\, proteins\, and veggies) and make a few go-to recipes that can be customized in endless ways. \n– Class includes tastings\, take-home recipes\, and a few tricks to impress your roommates or avoid another night of instant noodles. \n– Guests attending all three classes will go home with a “Kitchen Confidence” Recipe Zine\, meal planning note pad\, and an essential spice starter kit!
URL:https://lavictoriahk.com/event/cooking-101-july-17-2025/
LOCATION:La Victoria Healing Kitchen\, 1427 Elmira St\, Aurora\, CO\, 80010\, United States
ATTACH;FMTTYPE=image/jpeg:https://lavictoriahk.com/wp-content/uploads/2025/06/LVHK-Cooking101-Class.jpg
END:VEVENT
BEGIN:VEVENT
DTSTART;TZID=UTC:20250717T183000
DTEND;TZID=UTC:20250717T213000
DTSTAMP:20260420T182010
CREATED:20250630T105109Z
LAST-MODIFIED:20250714T230016Z
UID:10000662-1752777000-1752787800@lavictoriahk.com
SUMMARY:Flavors of Central America
DESCRIPTION:Embark on a vibrant culinary journey through the heart of Central America\, where bold spices\, rich traditions\, and colorful ingredients come together on every plate. In this hands-on cooking class\, you’ll explore the diverse flavors and cultural stories behind iconic dishes from countries like El Salvador\, Guatemala\, Honduras\, and Nicaragua. From fire-roasted salsas to fragrant stews and hand-formed tortillas\, we’ll dive into the techniques and ingredients that make Central American cuisine both comforting and deeply expressive. Along the way\, you’ll build essential cooking skills\, expand your flavor palette\, and enjoy a delicious shared meal. \nClass Highlights:\n– Learn to work with staple ingredients like masa\, plantains\, chiles\, and fresh herbs\n– Prepare regional dishes such as pupusas\, curtido\, tamales\, or gallo pinto\n– Discover the history and cultural significance behind each dish \nCome ready to cook\, taste\, and celebrate the warmth and vibrancy of this flavorful region. \nGo home inspired to bring these rich flavors into your kitchen with a Central American pantry guide and an aqua fresca syrup. \n  \n 
URL:https://lavictoriahk.com/event/flavors-of-central-america_july_17_2025/
LOCATION:La Victoria Healing Kitchen\, 1427 Elmira St\, Aurora\, CO\, 80010\, United States
CATEGORIES:Cultural Culinary Experiences
ATTACH;FMTTYPE=image/jpeg:https://lavictoriahk.com/wp-content/uploads/2025/06/LVHK_Central_America_Cuisine.jpg
END:VEVENT
BEGIN:VEVENT
DTSTART;TZID=UTC:20250719T100000
DTEND;TZID=UTC:20250719T140000
DTSTAMP:20260420T182010
CREATED:20250630T111529Z
LAST-MODIFIED:20250714T225910Z
UID:10000663-1752919200-1752933600@lavictoriahk.com
SUMMARY:Root to Table: A Regenerative Market-to-Meal Experience
DESCRIPTION:Join us for a vibrant and immersive culinary journey that begins at the farmers market and ends at the table. In this one-of-a-kind farm-to-table experience\, you’ll explore the principles of regenerative agriculture while discovering the joy of cooking with fresh\, seasonal ingredients sourced directly from local growers. \nWe’ll begin the day with a guided tour of a local farmers market\, where you’ll meet producers\, learn how to shop seasonally and sustainably\, and select ingredients for our meal together. Then\, we’ll head to the kitchen to prepare a delicious\, community-style feast that reflects the best of what the land—and the season—has to offer. \nThroughout the experience\, you’ll learn how regenerative farming practices like composting\, cover cropping\, rotational grazing\, and biodiversity contribute to healthier ecosystems and more resilient communities. You’ll also leave with tools to help you source local food and build nourishing habits at home. \nDuring our time together you’ll enjoy:\n– A guided tour and shopping trip to a local farmers market\n– Education on regenerative agriculture and local food systems\n– Tips on finding CSAs\, farmers markets\, and seasonal produce year-round\n– Hands-on cooking instruction using fresh\, market-sourced ingredients\n– A shared seasonal meal and conversation around sustainable food choices \nAs you depart\, you’ll take home a thoughtfully curated set of resources and gifts to continue your journey—from a seasonal meal planning and sourcing guide\, to a packet of regenerative seeds\, and a jar of infused salt or house-made spice blend. You’ll also receive a downloadable pantry planner to help you build sustainable habits long after the last bite. \nMenu: \nA farm-to-table luncheon created from that morning’s farmers’ market haul. This menu is intentionally flexible – it will showcase whatever is freshest and in season – but here’s an example of the vibrant\, rustic dishes the class might prepare. The focus is on seasonal vegetables\, whole grains\, and sustainable proteins\, using “just-picked peak” ingredients that only need simple preparation to shine. Each part of the plant is utilized (root-to-leaf cooking) to honor regenerative principles and minimize waste. \n\nFarmers’ Market Salad with Herb Vinaigrette\nSummer Vegetable Ratatouille with Carrot-Top Pesto\nHerbed Quinoa Pilaf with Grilled Corn and Cherry Tomatoes\nPeach & Berry Cobbler (Seasonal Fruit Crisp)\n\n(Throughout this class\, participants learn about regenerative farming practices and how to source ingredients locally. The menu’s flexibility teaches how to “cook with the seasons” – picking the best produce available and cooking it in a way that honors its natural flavors. Everyone will enjoy a communal meal of the dishes prepared\, paired with discussions on composting\, sourcing from CSAs\, and reducing kitchen waste. As take-home gifts\, each couple/individual leaves with a packet of regenerative seeds\, a jar of house-made herb salt\, and seasonal meal-planning guides to continue their farm-to-table journey.) \nCome ready to shop\, cook\, and savor the season—one bite at a time.
URL:https://lavictoriahk.com/event/root-to-table-a-regenerative-market-to-meal-experience_07-19-2025/
LOCATION:La Victoria Healing Kitchen\, 1427 Elmira St\, Aurora\, CO\, 80010\, United States
ATTACH;FMTTYPE=image/jpeg:https://lavictoriahk.com/wp-content/uploads/2025/06/LVHK_Market_to_Table.jpg
END:VEVENT
BEGIN:VEVENT
DTSTART;TZID=UTC:20250719T190000
DTEND;TZID=UTC:20250719T220000
DTSTAMP:20260420T182010
CREATED:20250630T113458Z
LAST-MODIFIED:20250714T225837Z
UID:10000664-1752951600-1752962400@lavictoriahk.com
SUMMARY:Sip & Savor: A Summer Cocktail Party Cooking Class
DESCRIPTION:Celebrate the bright\, bold flavors of summer in this lively and hands-on cocktail party experience. In this class\, you’ll learn how to mix seasonal\, refreshing cocktails and prepare small bites that are perfect for warm-weather entertaining. Whether you’re hosting on the patio or bringing the party indoors\, this is your chance to master the art of laid-back elegance. \nWe’ll shake\, stir\, and garnish three classic summer cocktails while preparing a sun-kissed menu designed to pair perfectly with each drink. Along the way\, you’ll pick up tips for effortless hosting\, smart prep\, and how to bring a little extra sparkle to your summer gatherings. \nWhat You’ll Learn:\n– How to make three summer-inspired classic cocktails using seasonal ingredients\n– How to pair cocktails with vibrant\, summery small plates\n– Hands-on cooking instruction for warm-weather dishes that impress without the stress\n– Tips for hosting a breezy\, stylish summer party—no sweat required \nTake-Home Treats Include:\n– A mini bottle of house-made simple syrup (lavender\, citrus\, or basil)\n– A cocktail garnish kit with dried citrus and edible flowers \nWhether you’re a cocktail enthusiast\, a backyard host\, or simply craving seasonal inspiration\, this class brings the flavor and fun of summer to every glass and plate. Just bring your sunshine spirit—we’ll bring the ice. \nMenu: \nA lively trio of summer cocktails and perfectly paired small bites\, designed to teach the art of mixing drinks and matching flavors. We’ll shake\, stir\, and garnish three classic summer cocktails featuring seasonal fruits and herbs\, and create accompanying appetizers that complement each drink’s profile. The result: a spread of elegant yet easy party nibbles and sips\, ideal for warm-weather entertaining. (Each participant will also take home a mini bottle of infused simple syrup and a cocktail garnish kit.) \n\nLavender Lemon Collins\nWatermelon Mint Margarita\nSparkling Peach Basil Sangria\n\nBy learning these cocktail-and-bite combinations\, participants gain confidence in entertaining with ease. The focus is on simple preparations — for instance\, the crostini can be assembled in minutes\, and the shrimp cooks quickly on a grill pan. We also discuss hosting tips\, like batching cocktails and preparing garnishes ahead\, so you can actually enjoy your own party “without the stress.” Each guest leaves with recipes for all drinks and appetizers\, plus their take-home goodies (flavored syrup and garnishes) to inspire their next summer soirée.
URL:https://lavictoriahk.com/event/sip-savor-a-summer-cocktail-party-cooking-class-07-19-2025/
LOCATION:La Victoria Healing Kitchen\, 1427 Elmira St\, Aurora\, CO\, 80010\, United States
ATTACH;FMTTYPE=image/jpeg:https://lavictoriahk.com/wp-content/uploads/2025/06/LVHK_Summer_Mixology_Class.jpg
END:VEVENT
END:VCALENDAR