BEGIN:VCALENDAR
VERSION:2.0
PRODID:-//La Victoria Healing Kitchen - ECPv6.15.3//NONSGML v1.0//EN
CALSCALE:GREGORIAN
METHOD:PUBLISH
X-ORIGINAL-URL:https://lavictoriahk.com
X-WR-CALDESC:Events for La Victoria Healing Kitchen
REFRESH-INTERVAL;VALUE=DURATION:PT1H
X-Robots-Tag:noindex
X-PUBLISHED-TTL:PT1H
BEGIN:VTIMEZONE
TZID:UTC
BEGIN:STANDARD
TZOFFSETFROM:+0000
TZOFFSETTO:+0000
TZNAME:UTC
DTSTART:20250101T000000
END:STANDARD
END:VTIMEZONE
BEGIN:VEVENT
DTSTART;TZID=UTC:20250710T100000
DTEND;TZID=UTC:20250710T140000
DTSTAMP:20260420T164829
CREATED:20250626T185016Z
LAST-MODIFIED:20250707T175058Z
UID:10000650-1752141600-1752156000@lavictoriahk.com
SUMMARY:Kids Summer Day Camp: Mystery Basket Culinary Challenge!
DESCRIPTION:** Sold Out ** \nCalling all young chefs! Get ready for a day of fun\, flavor\, and friendly competition in this exciting Chopped-style summer day-camp designed just for kids. Inspired by the hit cooking show\, this hands-on camp will challenge budding cooks to think creatively\, work as a team\, and master new kitchen skills—all while having a blast. \nCampers will face mystery basket challenges using seasonal ingredients to create appetizers\, entrées\, and desserts. Along the way\, they’ll learn essential cooking techniques\, kitchen safety\, flavor pairing\, and presentation tips from our chef instructors. \nCamp Highlights:\n– Cooking challenges with surprise ingredients\n– Hands-on practice in chopping\, sautéing\, baking\, and plating\n– Teamwork\, time management\, and creative thinking\n– Judging panels and fun prizes (everyone’s a winner!)\n– Take-home recipes and new culinary confidence \nPerfect for ages 10-15\, no prior experience needed—just a love of cooking and a sense of adventure! \nLet the chopping begin!
URL:https://lavictoriahk.com/event/kids-summer-day-camp-mystery-basket-culinary-challenge-july-10-2025/
LOCATION:La Victoria Healing Kitchen\, 1427 Elmira St\, Aurora\, CO\, 80010\, United States
ATTACH;FMTTYPE=image/jpeg:https://lavictoriahk.com/wp-content/uploads/2025/06/LVHK-Kids-Summer-Camp-sm-soldout.jpg
END:VEVENT
BEGIN:VEVENT
DTSTART;TZID=UTC:20250711T103000
DTEND;TZID=UTC:20250711T120000
DTSTAMP:20260420T164829
CREATED:20250626T192115Z
LAST-MODIFIED:20250707T175010Z
UID:10000651-1752229800-1752235200@lavictoriahk.com
SUMMARY:Cooking 101: Eat Well\, Save Money\, Feel Confident in the Kitchen
DESCRIPTION:** Sold Out ** \nKnife Skills & Kitchen Basics\nSlice\, dice\, and chop like a champ! In this hands-on session\, you’ll get comfortable with essential knife techniques\, learn how to safely handle and maintain your tools\, and explore basic kitchen equipment every student should have (even in a tiny dorm or apartment kitchen). We’ll also make a few simple recipes to put your new skills to use. \n– Class includes tastings\, take-home recipes\, and a few tricks to impress your roommates or avoid another night of instant noodles \n– Guests attending all three classes will go home with a “Kitchen Confidence” Recipe Zine\, meal planning note pad\, and an essential spice starter kit!
URL:https://lavictoriahk.com/event/cooking-101-july-11-2025/
LOCATION:La Victoria Healing Kitchen\, 1427 Elmira St\, Aurora\, CO\, 80010\, United States
ATTACH;FMTTYPE=image/jpeg:https://lavictoriahk.com/wp-content/uploads/2025/06/LVHK-Cooking101-Class-soldout.jpg
END:VEVENT
BEGIN:VEVENT
DTSTART;TZID=UTC:20250712T100000
DTEND;TZID=UTC:20250712T123000
DTSTAMP:20260420T164829
CREATED:20250626T202237Z
LAST-MODIFIED:20250710T193544Z
UID:10000654-1752314400-1752323400@lavictoriahk.com
SUMMARY:Blooms & Brunch
DESCRIPTION:This hands-on class invites you to slow down\, connect\, and savor the beauty of the moment. Together\, we’ll craft a variety of floral-inspired cocktails\, mocktails and classic brunch dishes featuring edible flowers and fresh herbs. \nEach guest will leave with a floral-infused syrup & a mini herb or edible flower kit—perfect keepsakes to continue the summertime magic at home. \nBeverages:\n– Hibiscus Lemonade\n– Mint & Basil Spritz\n– Citrus Blossom Punch\n– Rose & Strawberry Fizz\n– Elderflower Spritz \nMenu:\n– Scones with Gin washed Grape Marmalade\n– Citrus-Glazed Quiche\n– Avocado Toast with Pansy Garnish \n 
URL:https://lavictoriahk.com/event/blooms-brunch-july-12-2025/
LOCATION:La Victoria Healing Kitchen\, 1427 Elmira St\, Aurora\, CO\, 80010\, United States
ATTACH;FMTTYPE=image/jpeg:https://lavictoriahk.com/wp-content/uploads/2025/06/LVHK-Blooms-Brunch-sm.jpeg
END:VEVENT
BEGIN:VEVENT
DTSTART;TZID=UTC:20250712T180000
DTEND;TZID=UTC:20250712T210000
DTSTAMP:20260420T164829
CREATED:20250626T203600Z
LAST-MODIFIED:20250710T193338Z
UID:10000655-1752343200-1752354000@lavictoriahk.com
SUMMARY:Coastal Kitchen: East Coast Flavors
DESCRIPTION:From chowders to crab cakes\, this hands-on cooking class brings the bold\, briny\, and comforting flavors of the East Coast straight to your plate. Inspired by seaside towns\, city delis\, and family fish shacks from Maine to Maryland\, you’ll learn to cook a coastal-inspired menu that’s perfect for sharing – and even better with a cold drink and good company. \nIn this class\, we’ll roll up our sleeves to create a multi-course meal using fresh\, seasonal ingredients and classic East Coast techniques. Whether you’re a seafood lover or just East Coast curious\, this is your chance to explore the region’s signature flavors in a relaxed\, welcoming kitchen. \nDuring this class you’ll learn:\n– How to properly cook and season seafood\n– Presentation and prep techniques for casual entertaining\n– Tips for creating a well-balanced coastal menu \nEach guest will leave with an east coast spice blend and a sustainable seafood guide. \nMenu: \nA seaside-inspired feast highlighting the bold\, briny comforts of the East Coast. This multi-course meal uses fresh seafood and regional classics\, prepared with straightforward techniques. \n\nNew England Clam Chowder\nMaryland Crab Cakes with Old Bay Remoulade\nSummer Corn Salad with Tomatoes & Herbs\nWild Maine Blueberry Cobbler\n\n(Each guest will also take home an East Coast seafood spice blend. By focusing on regional ingredients like clams\, crab\, corn\, and blueberries\, this menu stays true to East Coast traditions while remaining budget-friendly and crowd-pleasing.)
URL:https://lavictoriahk.com/event/coastal-kitchen-east-coast-flavors-july-12-2025/
LOCATION:La Victoria Healing Kitchen\, 1427 Elmira St\, Aurora\, CO\, 80010\, United States
ATTACH;FMTTYPE=image/jpeg:https://lavictoriahk.com/wp-content/uploads/2025/06/LVHK-Coastal-SeaFood-sm.jpg
END:VEVENT
BEGIN:VEVENT
DTSTART;TZID=UTC:20250713T170000
DTEND;TZID=UTC:20250713T200000
DTSTAMP:20260420T164829
CREATED:20250627T105745Z
LAST-MODIFIED:20250710T193701Z
UID:10000656-1752426000-1752436800@lavictoriahk.com
SUMMARY:Nacho Average Family Night! (a family summer dinner series)
DESCRIPTION:Bring the whole family to the table for a fun and flavorful evening of cooking and connection! In this hands-on class\, you’ll learn how to make a delicious\, family-style Mexican meal that’s perfect for weeknight dinners or festive weekends. Together\, we’ll explore kid-friendly cooking techniques while introducing bold flavors and fresh ingredients—from homemade tortillas to colorful toppings and tasty sides. Everyone gets involved\, whether it’s mixing guacamole\, rolling burritos\, or assembling tacos just the way they like them. \nWhat You’ll Learn:\n– How to make simple and delicious fillings\, adaptable for tacos\, nachos or enchiladas\n– Two versions of fresh salsa\n– Tips for balancing flavor and spice for all ages \nDesigned for families of all sizes ages 7 and up\, this class is as much about bonding as it is about cooking. No experience necessary—just bring your appetite and a sense of fun! \nParties will leave with a mini pinata for their next Fiesta at Home – filled with an assortment of play list suggestions\, dinner game ideas\, recipes\, mexican candies and snacks\, and more! \nMenu: \nA fun\, family-style Mexican spread with customizable dishes that kids and adults will love. These recipes use inexpensive staples (beans\, tortillas\, veggies) and mild spices\, making them easy\, adaptable\, and playful for all ages. \n\nHomemade Tortillas (Flour & Corn)\nFresh Guacamole & Chips\nTwo Fresh Salsas: Pico de Gallo & Salsa Verde\nBuild-Your-Own Taco & Nacho Bar\n\n(Families will leave with a mini piñata full of extras – from Mexican candy to a playlist and recipe cards – so the fiesta can continue at home. By involving everyone in preparing simple components like guac\, salsa\, and taco fillings\, this menu is budget-friendly and encourages family bonding in the kitchen.)
URL:https://lavictoriahk.com/event/nacho-average-family-night-july-13-2025/
LOCATION:La Victoria Healing Kitchen\, 1427 Elmira St\, Aurora\, CO\, 80010\, United States
ATTACH;FMTTYPE=image/jpeg:https://lavictoriahk.com/wp-content/uploads/2025/06/LVHK_Mexican_Food_Class_sm.jpg
END:VEVENT
END:VCALENDAR