BEGIN:VCALENDAR
VERSION:2.0
PRODID:-//La Victoria Healing Kitchen - ECPv6.15.3//NONSGML v1.0//EN
CALSCALE:GREGORIAN
METHOD:PUBLISH
X-ORIGINAL-URL:https://lavictoriahk.com
X-WR-CALDESC:Events for La Victoria Healing Kitchen
REFRESH-INTERVAL;VALUE=DURATION:PT1H
X-Robots-Tag:noindex
X-PUBLISHED-TTL:PT1H
BEGIN:VTIMEZONE
TZID:UTC
BEGIN:STANDARD
TZOFFSETFROM:+0000
TZOFFSETTO:+0000
TZNAME:UTC
DTSTART:20240101T000000
END:STANDARD
END:VTIMEZONE
BEGIN:VEVENT
DTSTART;TZID=UTC:20240806T103000
DTEND;TZID=UTC:20240806T133000
DTSTAMP:20260422T124539
CREATED:20240424T190836Z
LAST-MODIFIED:20240807T150649Z
UID:10000471-1722940200-1722951000@lavictoriahk.com
SUMMARY:Sold Out - Kitchen Showdown (Kids' Camp): A Chopped-Style Culinary Battle
DESCRIPTION:$85.00\nAugust 6\, 2024. 10:30 AM – 1:30 PM\nEvent is Sold Out. \nWelcome to an adrenaline-pumping\, high-energy cooking class that brings the thrill of a culinary competition to Chef Aarika’s kitchen! Get ready to put your cooking skills to the test in a Chopped-inspired showdown. In this dynamic class\, participants will face mystery ingredients that push your creativity and cooking skills as you create delicious dishes to enjoy family style at the end! Join us for a culinary adventure that will test your limits and leave you with memories of a kitchen battle well-fought! \nReserve your spot at chefaarika.com
URL:https://lavictoriahk.com/event/kitchen-showdown-a-chopped-style-culinary-battle-august-6-2024/
LOCATION:La Victoria Healing Kitchen\, 1427 Elmira St\, Aurora\, CO\, 80010\, United States
CATEGORIES:Summer Camps
ATTACH;FMTTYPE=image/png:https://lavictoriahk.com/wp-content/uploads/2024/04/KitchenShowdown-e1715009242718.png
END:VEVENT
BEGIN:VEVENT
DTSTART;TZID=UTC:20240730T103000
DTEND;TZID=UTC:20240801T133000
DTSTAMP:20260422T124539
CREATED:20240424T181648Z
LAST-MODIFIED:20240807T142025Z
UID:10000463-1722335400-1722519000@lavictoriahk.com
SUMMARY:Sold Out - Around the World in 3 Days (Kids Camp): An Epic Culinary Adventure - July 30\, 31\, Aug 1. 2024
DESCRIPTION:$240\nJuly 30 – Aug 1\, 2024. 10:30 AM – 1:30 PM\n– Event is Sold Out \nJoin Chef Aarika for an epic culinary adventure as we travel the globe in this 3-day workshop showcasing daily meals from all over the world! Don’t miss this opportunity to expand your cooking skills and try cuisines you’ve not tried before. Your taste buds will thank you! \nDay 1 Menu: Breakfast Bonanza: Exploring International Morning Meals \nDay 2 Menu: Global Bites: A Journey through Street Food Lunches \nDay 3 Menu: Culinary Passport: A World Dinner Tour \n* Menus Coming Soon \nReserve your spot at chefaarika.com
URL:https://lavictoriahk.com/event/around-the-world-in-3-days-an-epic-culinary-adventure-july-30-31-aug-1-2024/
LOCATION:La Victoria Healing Kitchen\, 1427 Elmira St\, Aurora\, CO\, 80010\, United States
CATEGORIES:Summer Camps
ATTACH;FMTTYPE=image/png:https://lavictoriahk.com/wp-content/uploads/2024/04/AroundtheWorldin3Days-e1715009511319.png
END:VEVENT
BEGIN:VEVENT
DTSTART;TZID=UTC:20240725T103000
DTEND;TZID=UTC:20240726T133000
DTSTAMP:20260422T124539
CREATED:20240424T190305Z
LAST-MODIFIED:20240612T181228Z
UID:10000469-1721903400-1722000600@lavictoriahk.com
SUMMARY:Rice and Spice: A Tour of Asia (Kids' Camp)- July 25 and 26\, 2024
DESCRIPTION:$170.00\nJuly 25 – 26\, 2024 | 10:30 AM – 1:30pm \nJoin Chef Aarika as she takes you through the heart and soul of Asian cuisine! She will guide you through the intricate art of preparing iconic Asian dishes that revolve around these essential ingredients. From mastering the perfect rice texture to discovering the delicate balance of spices that define each regional cuisine\, this class is designed to elevate your culinary skills and broaden your flavor palette. \nDay 1 Menu: Tasting Asia \n\nRice Basics\nChicken Pad Thai with Crispy Bean Sprouts\nSpicy Tuna Hand Rolls\nThai Spring Rolls with Peanut Sauce\nBulgogi Beef Lettuce Wraps with Pickled Vegetable Salad and Gochujang\nBahn Bo (Sweet Vietnamese Cakes) Served with Coconut Anglaise\nBoba Tea\n\nDay 2 Menu: Wok and Roll \n\nChicken Fried Rice\nFresh Vietnamese Shrimp Spring Rolls with Dipping Sauce\nCrab and Pineapple Wonton Cups with Sweet and Spicy Soy Glaze\nSujeonggwa (Korean Cinnamon Punch)\nSesame Miso Butter Cookies\n\nCulinary Techniques In This Camp: rice making\, sauteing\, sushi rolling\, knife skills\, sauce making\, baking \n  \nReserve your spot at chefaarika.com
URL:https://lavictoriahk.com/event/rice-and-spice-a-tour-of-asia-july-25-and-26-2024/
LOCATION:La Victoria Healing Kitchen\, 1427 Elmira St\, Aurora\, CO\, 80010\, United States
CATEGORIES:Summer Camps
ATTACH;FMTTYPE=image/png:https://lavictoriahk.com/wp-content/uploads/2024/04/RiceandSpice-e1715009555922.png
END:VEVENT
BEGIN:VEVENT
DTSTART;TZID=UTC:20240724T103000
DTEND;TZID=UTC:20240724T133000
DTSTAMP:20260422T124539
CREATED:20240424T190046Z
LAST-MODIFIED:20240708T220703Z
UID:10000468-1721817000-1721827800@lavictoriahk.com
SUMMARY:Pizza Palooza (Kids' Camp)- July 24\, 2024
DESCRIPTION:Sold Out\n$85.00\nWho doesn’t love a pizza party?! Join Chef Aarika for a doughy adventure as you master the art of crafting versatile dough perfect for pizzas\, calzones\, and breadsticks. Dive into the world of pizza as you learn to prepare an array of homemade sauces and experiment with an exciting assortment of toppings. By the end of the camp\, you’ll have the skills to throw your very own pizza party that will leave everyone impressed and craving for more! Don’t miss out on this fantastic and flavorful experience! \nMenu: \n\nClassic Pizza Dough\nVarious Pizza Sauces\nCalzones with Fresh Marinara\nCheesy Breadsticks\nDesign Your Own Pizza\nDessert Pizza\n\nCulinary Techniques In This Camp: dough work\, sauce making \nReserve your spot at chefaarika.com
URL:https://lavictoriahk.com/event/pizza-palooza-july-24-2024/
LOCATION:CO
CATEGORIES:Summer Camps
ATTACH;FMTTYPE=image/png:https://lavictoriahk.com/wp-content/uploads/2024/04/PizzaPalooza-SoldOut-02.png
END:VEVENT
BEGIN:VEVENT
DTSTART;TZID=UTC:20240719T103000
DTEND;TZID=UTC:20240719T133000
DTSTAMP:20260422T124539
CREATED:20240424T185731Z
LAST-MODIFIED:20240708T220605Z
UID:10000467-1721385000-1721395800@lavictoriahk.com
SUMMARY:Sushi Samurai (Kids' Camp): The Art of Sushi Rolls - July 19\, 2024
DESCRIPTION:$85\nSold out \nJuly 19\, 2024 – 10:30 AM 1:30 PM \nGet ready to roll sushi like a pro! Join Chef Aarika as she expertly walks you through the art of crafting a variety of fresh and delicious sushi rolls. This hands-on workshop is designed to immerse you in the world of authentic ingredients\, traditional flavors\, and essential techniques needed to create your very own customized sushi masterpieces. By the end of the session\, you’ll be confidently creating impressive rolls worthy of any sushi restaurant. \nMenu:\n \n\nSushi Rice\nCalifornia Rolls\nPhilly Rolls\nSpicy Tuna Hand Rolls\nDessert Sushi\n\nCulinary Techniques In This Camp: knife skills and sushi rolling \nReserve your spot at chefaarika.com
URL:https://lavictoriahk.com/event/sushi-samurai-the-art-of-sushi-rolls-july-19-2024/
LOCATION:CO
CATEGORIES:Summer Camps
ATTACH;FMTTYPE=image/jpeg:https://lavictoriahk.com/wp-content/uploads/2024/04/LVHK-SushiSamurai-SOLD-OUT.jpg
END:VEVENT
BEGIN:VEVENT
DTSTART;TZID=UTC:20240718T103000
DTEND;TZID=UTC:20240718T133000
DTSTAMP:20260422T124539
CREATED:20240424T181940Z
LAST-MODIFIED:20240708T220128Z
UID:10000464-1721298600-1721309400@lavictoriahk.com
SUMMARY:Dough Around the World (Kids' Camp) - July 18\, 2024
DESCRIPTION:$85.00\nSold Out. \nJuly 18\, 2024. 10:30 AM – 1:30 PM \nLet’s get doughy! Embark on a global culinary journey with Chef Aarika as she introduces you to the art of stuffed doughs from various countries. From savory to sweet\, every culture has its own version of stuffed dough\, and in this workshop\, you’ll have the opportunity to explore these delicious creations along with simple accompanying sauces. By the end of the workshop\, you’ll feel like you’ve experienced an international street fair right in the kitchen! \nMenu: \n\nEmpanadas with Chimichurri Sauce\nPotstickers with Soy Dipping Sauce\nPolish Pierogies with Roasted Garlic Sour Cream\nAgnolotti with Marinara Sauce\n\nCulinary Techniques In This Camp: dough work\, sauteing\, sauce making\, homemade pasta \nReserve your spot at chefaarika.com
URL:https://lavictoriahk.com/event/dough-around-the-world-july-18-2024/
LOCATION:La Victoria Healing Kitchen\, 1427 Elmira St\, Aurora\, CO\, 80010\, United States
CATEGORIES:Summer Camps
ATTACH;FMTTYPE=image/png:https://lavictoriahk.com/wp-content/uploads/2024/04/DoughAroundtheWorld-SoldOut-02.png
END:VEVENT
BEGIN:VEVENT
DTSTART;TZID=UTC:20240708T103000
DTEND;TZID=UTC:20240709T133000
DTSTAMP:20260422T124539
CREATED:20240424T181021Z
LAST-MODIFIED:20240702T230328Z
UID:10000461-1720434600-1720531800@lavictoriahk.com
SUMMARY:Junior Chef Boot Camp - July 8 and 9\, 2024
DESCRIPTION:Sold out.\n$170.00\n* Kids’ Camp \nJuly 8-9\, 2024. 10:30 AM – 1:30 PM \nWelcome to a two-day culinary adventure designed for aspiring young cooks and bakers! \nDay 1: Baking Bonanza \nOn the first day of our boot camp\, young chefs will dive into the delightful world of baking. From measuring ingredients to mastering the art of mixing\, participants will learn the fundamental skills needed to create mouthwatering baked goods. Chef Laura will guide our young bakers through the step-by-step process of creating delicious cookies\, cakes\, and pastries. By the end of the day\, junior bakers will not only have a sweet tooth satisfaction but also a newfound confidence in the baking realm\, (especially at altitude). \nDay 2: Culinary Creations \nGet ready to shift gears on day two as we transition into the exciting realm of cooking. Junior chefs will explore essential cooking skills\, from knife techniques to stove mastery. They’ll embark on a culinary journey\, learning how to sauté\, simmer\, and season like a pro. With hands-on experience\, participants will whip up savory dishes that showcase their newfound cooking skills. By the end of Junior Chef Boot Camp\, our junior chefs will have a well-rounded skill set to impress friends and family with their delicious creations. \nReserve your spot at chefaarika.com
URL:https://lavictoriahk.com/event/junior-chef-boot-camp-july-8-and-9-2024/
LOCATION:La Victoria Healing Kitchen\, 1427 Elmira St\, Aurora\, CO\, 80010\, United States
CATEGORIES:Summer Camps
ATTACH;FMTTYPE=image/jpeg:https://lavictoriahk.com/wp-content/uploads/2024/04/LVHK-JuniorChefBootCampSOLDOUT.jpg
END:VEVENT
BEGIN:VEVENT
DTSTART;TZID=UTC:20240624T103000
DTEND;TZID=UTC:20240626T133000
DTSTAMP:20260422T124539
CREATED:20240424T175850Z
LAST-MODIFIED:20240612T180325Z
UID:10000458-1719225000-1719408600@lavictoriahk.com
SUMMARY:Around the World in 3 Days (Kids' Camp): An Epic Culinary Adventure - June 24\, 25\, 26\, 2024
DESCRIPTION:$240.00\nJoin Chef Aarika for an epic culinary adventure as we travel the globe in this 3-day workshop showcasing daily meals from all over the world! Don’t miss this opportunity to expand your cooking skills and try cuisines you’ve not tried before. Your taste buds will thank you! \nDay 1 Menu: Breakfast Bonanza: Exploring International Morning Meals \nDay 2 Menu: Global Bites: A Journey through Street Food Lunches \n  \nDay 3 Menu: Culinary Passport: A World Dinner Tour \n*Menus Coming Soon \nReserve your spot at chefaarika.com
URL:https://lavictoriahk.com/event/around-the-world-in-3-days-an-epic-culinary-adventure-june-24-25-26-2024/
LOCATION:La Victoria Healing Kitchen\, 1427 Elmira St\, Aurora\, CO\, 80010\, United States
CATEGORIES:Summer Camps
ATTACH;FMTTYPE=image/png:https://lavictoriahk.com/wp-content/uploads/2024/04/AroundtheWorldin3Days-e1715009511319.png
END:VEVENT
BEGIN:VEVENT
DTSTART;TZID=UTC:20240620T103000
DTEND;TZID=UTC:20240620T133000
DTSTAMP:20260422T124539
CREATED:20240424T175520Z
LAST-MODIFIED:20240612T181419Z
UID:10000457-1718879400-1718890200@lavictoriahk.com
SUMMARY:Sushi Samurai: The Art of Sushi Rolls (Kids' Camp)- June 20\, 2024
DESCRIPTION:$85\nJune 20\, 2024 – 10:30 AM 1:30 PM \nGet ready to roll sushi like a pro! Join Chef Aarika as she expertly walks you through the art of crafting a variety of fresh and delicious sushi rolls. This hands-on workshop is designed to immerse you in the world of authentic ingredients\, traditional flavors\, and essential techniques needed to create your very own customized sushi masterpieces. By the end of the session\, you’ll be confidently creating impressive rolls worthy of any sushi restaurant. \nMenu:\n \n\nSushi Rice\nCalifornia Rolls\nPhilly Rolls\nSpicy Tuna Hand Rolls\nDessert Sushi\n\nCulinary Techniques In This Camp: knife skills and sushi rolling \nReserve your spot at chefaarika.com
URL:https://lavictoriahk.com/event/sushi-samurai-the-art-of-sushi-rolls-june-20-2024/
LOCATION:CO
CATEGORIES:Summer Camps
ATTACH;FMTTYPE=image/png:https://lavictoriahk.com/wp-content/uploads/2024/04/SushiSamurai-e1715009274986.png
END:VEVENT
BEGIN:VEVENT
DTSTART;TZID=UTC:20240618T103000
DTEND;TZID=UTC:20240619T133000
DTSTAMP:20260422T124539
CREATED:20240424T175147Z
LAST-MODIFIED:20240614T124244Z
UID:10000456-1718706600-1718803800@lavictoriahk.com
SUMMARY:Bella Cucina (Kids' Camp): A 2-Day Italian Adventure
DESCRIPTION:$170\nJune 18-19\, 2024 | 10:30 AM – 1:30pm \nHey\, junior chefs! Get ready for an exciting two-day workshop where you’ll explore the vibrant flavors of Italy with Chef Donna! Learn to create an impressive menu that will tantalize your taste buds and amaze your family. Here’s a sneak peek at what you’ll be cooking up: \nDay 1 Menu: Savor Italia \n\nSavory Sun-Dried Tomato Bruschetta\nScrumptious Shrimp Scampi on Angel Hair Cakes\nHandmade Fettuccine Alfredo\nFlavorful Chicken Parmigiana with Broccolini\nDelectable Strawberry Semifreddo\n\nDay 2: Mamma Mia! \n\nZesty Shrimp\, Basil & Tomato Bruschetta\nWholesome Minestrone Al Pesto\nClassic Caesar Salad\nHomemade Potato Gnocchi with Roast Pepper Sauce\nSavory Beef Braciole\nIrresistible Chocolate Almond Filled Cookies\n\nCulinary Techniques In This Camp: sauteing\, pasta making\, sauce making\, roasting\, soup making\, emulsification\, baking \nReserve your spot at chefaarika.com
URL:https://lavictoriahk.com/event/bella-cucina-a-2-day-italian-adventure-june-2024south-american-2-day-culinary-tour-2/
LOCATION:CO
CATEGORIES:Summer Camps
ATTACH;FMTTYPE=image/png:https://lavictoriahk.com/wp-content/uploads/2024/04/BellaCucina-e1715009642425.png
END:VEVENT
BEGIN:VEVENT
DTSTART;TZID=UTC:20240612T103000
DTEND;TZID=UTC:20240613T133000
DTSTAMP:20260422T124539
CREATED:20240424T174920Z
LAST-MODIFIED:20240604T200901Z
UID:10000455-1718188200-1718285400@lavictoriahk.com
SUMMARY:Flavorsome Fiesta: Central and South American 2-Day Culinary Tour
DESCRIPTION:Sold out.\nExperience a delightful culinary adventure with Chef Aarika as she shares her expertise and passion for Central and South American cuisine\, offering insights into the cultural significance of various dishes and the stories behind their origins. Whether it’s mastering the art of crafting authentic arepas\, perfecting the seasoning of a classic ceviche\, or creating decadent empanadas\, this culinary tour promises to be a flavorsome fiesta for the senses. Join us for an unforgettable exploration of Central and South American culinary delights! \nDay 1 Menu: Flavors of Central America \n\nGrilled Elote Corn on the Cob\nSpicy Queso Fundido Served with Corn Chips\nNicaraguan Repochetas with Carne Asada\nHomemade Flour Tortillas\nSalsa Verde\nSpanish Rice and Beans\nChurros with Mexican Chocolate Dipping Sauce\n\nDay 2 Menu: Savoring South America \n\nLamb Chops with Smoked Chimichurri Sauce\nBlack Bean and Corn Empanadas with Aji Amarillo Aioli\nCheesy Arepas with Pepita Pesto\nMoqueca (Brazilian Fish Stew)\nArgentinian Alfajores (Cookies)\n\nCulinary Techniques In This Camp: grilling\, sauteing\, frying\, roasting\, smoking\, soup making \n  \nReserve your spot at chefaarika.com
URL:https://lavictoriahk.com/event/flavorsome-fiesta-central-and-south-american-2-day-culinary-tour/
LOCATION:CO
CATEGORIES:Summer Camps
ATTACH;FMTTYPE=image/png:https://lavictoriahk.com/wp-content/uploads/2024/04/FlavorsomeFiesta-SoldOut-02.png
END:VEVENT
BEGIN:VEVENT
DTSTART;TZID=UTC:20240611T103000
DTEND;TZID=UTC:20240611T133000
DTSTAMP:20260422T124539
CREATED:20240424T174609Z
LAST-MODIFIED:20240604T200815Z
UID:10000454-1718101800-1718112600@lavictoriahk.com
SUMMARY:Pizza Palooza - June 11\, 2024
DESCRIPTION:Sold Out.\nWho doesn’t love a pizza party?! Join Chef Aarika for a doughy adventure as you master the art of crafting versatile dough perfect for pizzas\, calzones\, and breadsticks. Dive into the world of pizza as you learn to prepare an array of homemade sauces and experiment with an exciting assortment of toppings. By the end of the camp\, you’ll have the skills to throw your very own pizza party that will leave everyone impressed and craving for more! Don’t miss out on this fantastic and flavorful experience! \nMenu: \n\nClassic Pizza Dough\nVarious Pizza Sauces\nCalzones with Fresh Marinara\nCheesy Breadsticks\nDesign Your Own Pizza\nDessert Pizza\n\nCulinary Techniques In This Camp: dough work\, sauce making \nReserve your spot at chefaarika.com
URL:https://lavictoriahk.com/event/pizza-palooza-june-11-2024/
LOCATION:CO
CATEGORIES:Summer Camps
ATTACH;FMTTYPE=image/png:https://lavictoriahk.com/wp-content/uploads/2024/04/PizzaPalooza-SoldOut-02.png
END:VEVENT
BEGIN:VEVENT
DTSTART;TZID=UTC:20240605T103000
DTEND;TZID=UTC:20240605T133000
DTSTAMP:20260422T124539
CREATED:20240424T174315Z
LAST-MODIFIED:20240604T200745Z
UID:10000453-1717583400-1717594200@lavictoriahk.com
SUMMARY:Dough Around the World - June 5\, 2024
DESCRIPTION:Sold Out.  \nLet’s get doughy! Embark on a global culinary journey with Chef Aarika as she introduces you to the art of stuffed doughs from various countries. From savory to sweet\, every culture has its own version of stuffed dough\, and in this workshop\, you’ll have the opportunity to explore these delicious creations along with simple accompanying sauces. By the end of the workshop\, you’ll feel like you’ve experienced an international street fair right in the kitchen! \nMenu: \n\nEmpanadas with Chimichurri Sauce\nPotstickers with Soy Dipping Sauce\nPolish Pierogies with Roasted Garlic Sour Cream\nAgnolotti with Marinara Sauce\n\nCulinary Techniques In This Camp: dough work\, sauteing\, sauce making\, homemade pasta \nReserve your spot at chefaarika.com
URL:https://lavictoriahk.com/event/dough-around-the-world-june-5-2024/
LOCATION:La Victoria Healing Kitchen\, 1427 Elmira St\, Aurora\, CO\, 80010\, United States
CATEGORIES:Summer Camps
ATTACH;FMTTYPE=image/png:https://lavictoriahk.com/wp-content/uploads/2024/04/DoughAroundtheWorld-SoldOut-02.png
END:VEVENT
END:VCALENDAR