BEGIN:VCALENDAR
VERSION:2.0
PRODID:-//La Victoria Healing Kitchen - ECPv6.15.3//NONSGML v1.0//EN
CALSCALE:GREGORIAN
METHOD:PUBLISH
X-WR-CALNAME:La Victoria Healing Kitchen
X-ORIGINAL-URL:https://lavictoriahk.com
X-WR-CALDESC:Events for La Victoria Healing Kitchen
REFRESH-INTERVAL;VALUE=DURATION:PT1H
X-Robots-Tag:noindex
X-PUBLISHED-TTL:PT1H
BEGIN:VTIMEZONE
TZID:UTC
BEGIN:STANDARD
TZOFFSETFROM:+0000
TZOFFSETTO:+0000
TZNAME:UTC
DTSTART:20250101T000000
END:STANDARD
END:VTIMEZONE
BEGIN:VEVENT
DTSTART;TZID=UTC:20250816T183000
DTEND;TZID=UTC:20250816T213000
DTSTAMP:20260421T094117
CREATED:20250722T153548Z
LAST-MODIFIED:20250809T192849Z
UID:10000666-1755369000-1755379800@lavictoriahk.com
SUMMARY:Taste of the Rockies: A Colorado Summer Meal
DESCRIPTION:Celebrate the bold\, fresh flavors of the Rocky Mountains in this hands-on cooking class featuring two Colorado classics—bison and trout. Perfect for adventurous home cooks and lovers of seasonal\, regional cuisine\, this class highlights the ingredients\, techniques\, and spirit of a true Colorado summer. \nYou’ll learn to prepare a full menu that brings together wild-caught Rocky Mountain trout and lean\, flavorful Colorado bison with bright summer produce and rustic\, mountain-inspired sides. \nOn the menu:\n– Grilled or pan-seared Colorado trout with herb-lemon butter\n– Coffee-rubbed bison medallions with roasted garlic pan sauce\n– Charred seasonal vegetables with smoked salt\n– Colorado peach and arugula salad with goat cheese and toasted pecans\n– Rustic berry cobbler with vanilla whipped cream \nAlong the way\, we’ll share tips on sourcing local ingredients\, pairing with regional wines or craft beer\, and bringing mountain flavor into your home kitchen. \nJoin us for a delicious celebration of Colorado’s natural bounty—fresh\, simple\, and unforgettable.
URL:https://lavictoriahk.com/event/taste-of-the-rockies-a-colorado-summer-meal-aug-16-2025/
LOCATION:La Victoria Healing Kitchen\, 1427 Elmira St\, Aurora\, CO\, 80010\, United States
ATTACH;FMTTYPE=image/png:https://lavictoriahk.com/wp-content/uploads/2025/07/LVHK-Summer-Colorado-Meal.png
END:VEVENT
END:VCALENDAR