BEGIN:VCALENDAR
VERSION:2.0
PRODID:-//La Victoria Healing Kitchen - ECPv6.15.3//NONSGML v1.0//EN
CALSCALE:GREGORIAN
METHOD:PUBLISH
X-WR-CALNAME:La Victoria Healing Kitchen
X-ORIGINAL-URL:https://lavictoriahk.com
X-WR-CALDESC:Events for La Victoria Healing Kitchen
REFRESH-INTERVAL;VALUE=DURATION:PT1H
X-Robots-Tag:noindex
X-PUBLISHED-TTL:PT1H
BEGIN:VTIMEZONE
TZID:UTC
BEGIN:STANDARD
TZOFFSETFROM:+0000
TZOFFSETTO:+0000
TZNAME:UTC
DTSTART:20250101T000000
END:STANDARD
END:VTIMEZONE
BEGIN:VEVENT
DTSTART;TZID=UTC:20250710T100000
DTEND;TZID=UTC:20250710T140000
DTSTAMP:20260420T181658
CREATED:20250626T185016Z
LAST-MODIFIED:20250707T175058Z
UID:10000650-1752141600-1752156000@lavictoriahk.com
SUMMARY:Kids Summer Day Camp: Mystery Basket Culinary Challenge!
DESCRIPTION:** Sold Out ** \nCalling all young chefs! Get ready for a day of fun\, flavor\, and friendly competition in this exciting Chopped-style summer day-camp designed just for kids. Inspired by the hit cooking show\, this hands-on camp will challenge budding cooks to think creatively\, work as a team\, and master new kitchen skills—all while having a blast. \nCampers will face mystery basket challenges using seasonal ingredients to create appetizers\, entrées\, and desserts. Along the way\, they’ll learn essential cooking techniques\, kitchen safety\, flavor pairing\, and presentation tips from our chef instructors. \nCamp Highlights:\n– Cooking challenges with surprise ingredients\n– Hands-on practice in chopping\, sautéing\, baking\, and plating\n– Teamwork\, time management\, and creative thinking\n– Judging panels and fun prizes (everyone’s a winner!)\n– Take-home recipes and new culinary confidence \nPerfect for ages 10-15\, no prior experience needed—just a love of cooking and a sense of adventure! \nLet the chopping begin!
URL:https://lavictoriahk.com/event/kids-summer-day-camp-mystery-basket-culinary-challenge-july-10-2025/
LOCATION:La Victoria Healing Kitchen\, 1427 Elmira St\, Aurora\, CO\, 80010\, United States
ATTACH;FMTTYPE=image/jpeg:https://lavictoriahk.com/wp-content/uploads/2025/06/LVHK-Kids-Summer-Camp-sm-soldout.jpg
END:VEVENT
END:VCALENDAR